BEGIN:VCALENDAR
VERSION:2.0
PRODID:-//Internal Balance - ECPv6.3.6//NONSGML v1.0//EN
CALSCALE:GREGORIAN
METHOD:PUBLISH
X-ORIGINAL-URL:https://myinternalbalance.com
X-WR-CALDESC:Events for Internal Balance
REFRESH-INTERVAL;VALUE=DURATION:PT1H
X-Robots-Tag:noindex
X-PUBLISHED-TTL:PT1H
BEGIN:VTIMEZONE
TZID:UTC
BEGIN:STANDARD
TZOFFSETFROM:+0000
TZOFFSETTO:+0000
TZNAME:UTC
DTSTART:20250101T000000
END:STANDARD
END:VTIMEZONE
BEGIN:VEVENT
DTSTART;VALUE=DATE:20250616
DTEND;VALUE=DATE:20250618
DTSTAMP:20260422T220840
CREATED:20250509T160446Z
LAST-MODIFIED:20250509T163544Z
UID:1092-1750032000-1750204799@myinternalbalance.com
SUMMARY:Module 5
DESCRIPTION:Tuition is $450 if paid in full by May 26th\, $ 480 if paid in full thereafter. A $150 at registration secures your spot. This class is taught in conjunction with a Module 6\, the second and third day after the class ends. We are not having class on June 18th due to family commitments. Inexpensive accommodations available where class is held. Email for details gisela.bosch@outlook.com or text at (810) 813 2310 \nPlease click here to register.
URL:https://myinternalbalance.com/event/module-5/
END:VEVENT
BEGIN:VEVENT
DTSTART;VALUE=DATE:20250616
DTEND;VALUE=DATE:20250621
DTSTAMP:20260422T220840
CREATED:20250509T162342Z
LAST-MODIFIED:20250509T162342Z
UID:1099-1750032000-1750463999@myinternalbalance.com
SUMMARY:Module 5 & 6 Combined
DESCRIPTION:Please note that there is no class on June 18th. You will have a free day in the middle of the 5 day span. Tuition is $900 if paid in full by May 26th; $960 if paid in full thereafter. A $150 at registration secures your spot. Inexpensive accommodations available where class is held. Email for details gisela.bosch@outlook.com or text at (810) 813 2310 \nPlease click here to register.
URL:https://myinternalbalance.com/event/module-5-6-combined/
END:VEVENT
BEGIN:VEVENT
DTSTART;VALUE=DATE:20250618
DTEND;VALUE=DATE:20250619
DTSTAMP:20260422T220840
CREATED:20250509T163728Z
LAST-MODIFIED:20250509T163728Z
UID:1101-1750204800-1750291199@myinternalbalance.com
SUMMARY:NO CLASS
DESCRIPTION:
URL:https://myinternalbalance.com/event/no-class/
END:VEVENT
BEGIN:VEVENT
DTSTART;VALUE=DATE:20250619
DTEND;VALUE=DATE:20250621
DTSTAMP:20260422T220840
CREATED:20250509T160747Z
LAST-MODIFIED:20250509T161843Z
UID:1096-1750291200-1750463999@myinternalbalance.com
SUMMARY:Module 6
DESCRIPTION:Tuition is $450 if paid in full by May 26th; $480 if paid in full thereafter. A $150 at registration secures your spot. This class is taught in conjunction with a Module 5\, Monday and Tuesday June 16th and 17th of that same week. No class on Wednday due to family commitments. Inexpensive accommodations available where class is held. Email for details gisela.bosch@outlook.com or text at (810) 813 2310 \nPlease click here to register. \n 
URL:https://myinternalbalance.com/event/module-6/
END:VEVENT
BEGIN:VEVENT
DTSTART;TZID=UTC:20250813T100000
DTEND;TZID=UTC:20250813T150000
DTSTAMP:20260422T220840
CREATED:20250705T202348Z
LAST-MODIFIED:20250705T202348Z
UID:1126-1755079200-1755097200@myinternalbalance.com
SUMMARY:Introduction to Bowenwork
DESCRIPTION:This class will be held in Lake Township\, Michigan\, 49640 \nCost: $120 – 4 hours CE credit for NCBTMB continuing education credit. Class will be taught over a 5 hour time span. Introductory Bowenwork classes provide a way to explore Bowenwork for the first time and learn moves that can be helpful to you and family & friends. It gives you a chance to see if the technique is right for you. These classes are open to all\, no prior experience is required.\nContact Gisela Bosch with questions or to register for class. Gisela.bosch@outlook.com or 810 813 2310 \nclick here to register
URL:https://myinternalbalance.com/event/introduction-to-bowenwork-6/
END:VEVENT
BEGIN:VEVENT
DTSTART;VALUE=DATE:20251204
DTEND;VALUE=DATE:20251206
DTSTAMP:20260422T220840
CREATED:20250705T202612Z
LAST-MODIFIED:20250918T183213Z
UID:1128-1764806400-1764979199@myinternalbalance.com
SUMMARY:Module 1
DESCRIPTION:This class will be held in Brighton\, Michigan\, 48114 \nNo prerequisites. Tuition is $450 if paid in full by November 13th\, $480 if paid in full thereafter. A $ 150 deposit at registration secures your spot. This class is taught in conjunction with a Module 2\, the following two days. A $95 check payable to American Bowen Academy due on the first day of class. Inexpensive accommodations available where class is held. Email for details gisela.bosch@outlook.com and text at (810) 813 2310 \nclick here to register
URL:https://myinternalbalance.com/event/module-1-6/
END:VEVENT
BEGIN:VEVENT
DTSTART;VALUE=DATE:20251204
DTEND;VALUE=DATE:20251208
DTSTAMP:20260422T220840
CREATED:20250705T202757Z
LAST-MODIFIED:20250918T182915Z
UID:1130-1764806400-1765151999@myinternalbalance.com
SUMMARY:Module 1 & 2 combined
DESCRIPTION:This class will be held in Brighton\, Michigan\, 48114 \nTuition is $900 if paid in full by November 13th; $960 if paid in full thereafter. A $150 at registration secures your spot. A $95 check payable to American Bowen Academy due on the first day of class. Inexpensive accommodations available where class is held. Email for details gisela.bosch@outlook.com or text at (810) 813 2310 \nclick here to register
URL:https://myinternalbalance.com/event/module-1-2-combined/
END:VEVENT
BEGIN:VEVENT
DTSTART;VALUE=DATE:20251206
DTEND;VALUE=DATE:20251208
DTSTAMP:20260422T220840
CREATED:20251121T174349Z
LAST-MODIFIED:20251121T175348Z
UID:1139-1764979200-1765151999@myinternalbalance.com
SUMMARY:Module 2
DESCRIPTION:Tuition is $450 if paid in full by November 13th\, 2025; $480 if paid in full thereafter. A $ 150 deposit at registration secures your spot. This class is taught in conjunction with a Module 1\, the preceding two days. Inexpensive accommodations available where class is held. Email for details gisela.bosch@outlook.com or text at (810) 813 2310 \nClick here to register
URL:https://myinternalbalance.com/event/module-2-6/
END:VEVENT
BEGIN:VEVENT
DTSTART;VALUE=DATE:20260113
DTEND;VALUE=DATE:20260115
DTSTAMP:20260422T220840
CREATED:20251121T174627Z
LAST-MODIFIED:20251121T174723Z
UID:1141-1768262400-1768435199@myinternalbalance.com
SUMMARY:Module 1
DESCRIPTION:No prerequisites. Tuition is $450 if paid in full by December 22nd\, $480 if paid in full thereafter. A $ 150 deposit at registration secures your spot. This class is taught in conjunction with a Module 2\, the following two days. A $95 check payable to American Bowen Academy due on the first day of class. Inexpensive accommodations available where class is held. Email for details gisela.bosch@outlook.com and text at (810) 813 2310 \nClick here to Register
URL:https://myinternalbalance.com/event/module-1-7/
END:VEVENT
BEGIN:VEVENT
DTSTART;VALUE=DATE:20260113
DTEND;VALUE=DATE:20260117
DTSTAMP:20260422T220840
CREATED:20251121T175205Z
LAST-MODIFIED:20251121T175218Z
UID:1147-1768262400-1768607999@myinternalbalance.com
SUMMARY:Modules 1 & 2 combined
DESCRIPTION:Tuition is $900 if paid in full by December 22nd; $960 if paid in full thereafter. A $150 at registration secures your spot. A $95 check payable to American Bowen Academy due on the first day of class. Inexpensive accommodations available where class is held. Email for details gisela.bosch@outlook.com or text at (810) 813 2310 \nClick here to register
URL:https://myinternalbalance.com/event/module-1-2-combined-2/
END:VEVENT
BEGIN:VEVENT
DTSTART;VALUE=DATE:20260115
DTEND;VALUE=DATE:20260117
DTSTAMP:20260422T220840
CREATED:20251121T175021Z
LAST-MODIFIED:20251121T175021Z
UID:1145-1768435200-1768607999@myinternalbalance.com
SUMMARY:Module 2
DESCRIPTION:Tuition is $450 if paid in full by December 22nd\, 2025; $480 if paid in full thereafter. A $ 150 deposit at registration secures your spot. This class is taught in conjunction with a Module 1\, the preceding two days. Inexpensive accommodations available where class is held. Email for details gisela.bosch@outlook.com or text at (810) 813 2310 \nClick here to register
URL:https://myinternalbalance.com/event/module-2-7/
END:VEVENT
BEGIN:VEVENT
DTSTART;TZID=UTC:20260406T080000
DTEND;TZID=UTC:20260406T170000
DTSTAMP:20260422T220840
CREATED:20260406T155036Z
LAST-MODIFIED:20260406T155036Z
UID:1172-1775462400-1775494800@myinternalbalance.com
SUMMARY:Module 2
DESCRIPTION:Honor\, Michigan: \nTuition is $450 if paid in full by June 1st\, 2026; $480 if paid in full thereafter. A $ 150 deposit at registration secures your spot. Inexpensive accommodations available where class is held. \nEmail for details gisela.bosch@outlook.com or text at (810) 813 2310. \nPlease click here to register.
URL:https://myinternalbalance.com/event/module-2-9/
END:VEVENT
BEGIN:VEVENT
DTSTART;VALUE=DATE:20260522
DTEND;VALUE=DATE:20260524
DTSTAMP:20260422T220840
CREATED:20260406T152617Z
LAST-MODIFIED:20260406T153956Z
UID:1151-1779408000-1779580799@myinternalbalance.com
SUMMARY:Module 5
DESCRIPTION:Brighton\, Michigan: \nTuition is $450 if paid in full by April 28th\, $ 480 if paid in full thereafter. A $150 at registration secures your spot. This class is taught in conjunction with a Module 6\, the following two days. Inexpensive accommodations available where class is held. Email for details gisela.bosch@outlook.com or text at (810) 813 2310 \nPlease click here to register.
URL:https://myinternalbalance.com/event/module-5-2/
END:VEVENT
BEGIN:VEVENT
DTSTART;VALUE=DATE:20260522
DTEND;VALUE=DATE:20260526
DTSTAMP:20260422T220840
CREATED:20260406T153037Z
LAST-MODIFIED:20260406T154308Z
UID:1155-1779408000-1779753599@myinternalbalance.com
SUMMARY:Module 5 & 6 combined
DESCRIPTION:Brighton\, Michigan: \nTuition is $900 if paid in full by April 28th; $960 if paid in full thereafter. A $150 at registration secures your spot. Inexpensive accommodations available where class is held. \nEmail for details gisela.bosch@outlook.com or text at (810) 813 2310 \nPlease click here to register.
URL:https://myinternalbalance.com/event/module-5-6-combined-2/
END:VEVENT
BEGIN:VEVENT
DTSTART;VALUE=DATE:20260524
DTEND;VALUE=DATE:20260526
DTSTAMP:20260422T220840
CREATED:20260406T152843Z
LAST-MODIFIED:20260406T154122Z
UID:1153-1779580800-1779753599@myinternalbalance.com
SUMMARY:Module 6
DESCRIPTION:Brighton\, Michigan: \nTuition is $450 if paid in full by April 28th; $480 if paid in full thereafter. A $150 at registration secures your spot. This class is taught in conjunction with a Module 5\, the preceding two days. Inexpensive accommodations available where class is held. \nEmail for details gisela.bosch@outlook.com or text at (810) 813 2310 \nPlease click here to register.
URL:https://myinternalbalance.com/event/module-6-2/
END:VEVENT
BEGIN:VEVENT
DTSTART;VALUE=DATE:20260626
DTEND;VALUE=DATE:20260628
DTSTAMP:20260422T220840
CREATED:20260406T153752Z
LAST-MODIFIED:20260406T153752Z
UID:1159-1782432000-1782604799@myinternalbalance.com
SUMMARY:Module 1
DESCRIPTION:Brighton\, Michigan: \nNo prerequisites. Tuition is $450 if paid in full by June 1st\, 2026; $480 if paid in full thereafter. A $ 150 deposit at registration secures your spot. This class is taught in conjunction with a Module 2\, the following two days. A $95 check payable to American Bowen Academy due on the first day of class. Inexpensive accommodations available where class is held. \nEmail for details gisela.bosch@outlook.com and text at (810) 813 2310 \nPlease click here to register.
URL:https://myinternalbalance.com/event/module-1-8/
END:VEVENT
BEGIN:VEVENT
DTSTART;VALUE=DATE:20260626
DTEND;VALUE=DATE:20260630
DTSTAMP:20260422T220840
CREATED:20260406T154704Z
LAST-MODIFIED:20260406T154704Z
UID:1168-1782432000-1782777599@myinternalbalance.com
SUMMARY:Module 1 & 2 combined
DESCRIPTION:Brighton\, Michigan: \nTuition is $900 if paid in full by June 1st\, 2026; $960 if paid in full thereafter. A $150 at registration secures your spot. A $95 check payable to American Bowen Academy due on the first day of class. Inexpensive accommodations available where class is held. \nEmail for details gisela.bosch@outlook.com or text at (810) 813 2310 \nPlease click here to register.
URL:https://myinternalbalance.com/event/module-1-2-combined-3/
END:VEVENT
BEGIN:VEVENT
DTSTART;VALUE=DATE:20260628
DTEND;VALUE=DATE:20260630
DTSTAMP:20260422T220840
CREATED:20260406T154514Z
LAST-MODIFIED:20260406T154514Z
UID:1166-1782604800-1782777599@myinternalbalance.com
SUMMARY:Module 2
DESCRIPTION:Brighton\, Michigan: \nTuition is $450 if paid in full by June 1st\, 2026; $480 if paid in full thereafter. A $ 150 deposit at registration secures your spot. Inexpensive accommodations available where class is held. \nEmail for details gisela.bosch@outlook.com or text at (810) 813 2310 \nPlease click here to register.
URL:https://myinternalbalance.com/event/module-2-8/
END:VEVENT
BEGIN:VEVENT
DTSTART;VALUE=DATE:20260723
DTEND;VALUE=DATE:20260725
DTSTAMP:20260422T220840
CREATED:20260406T154850Z
LAST-MODIFIED:20260406T154850Z
UID:1170-1784764800-1784937599@myinternalbalance.com
SUMMARY:Module 1
DESCRIPTION:Honor\, Michigan: \nNo prerequisites. Tuition is $450 if paid in full by July 1st\, 2026; $480 if paid in full thereafter. A $ 150 deposit at registration secures your spot. This class is taught in conjunction with a Module 2\, the following two days. A $95 check payable to American Bowen Academy due on the first day of class. Inexpensive accommodations available where class is held. \nEmail for details gisela.bosch@outlook.com and text at (810) 813 2310 \nPlease click here to register.
URL:https://myinternalbalance.com/event/module-1-9/
END:VEVENT
BEGIN:VEVENT
DTSTART;VALUE=DATE:20260723
DTEND;VALUE=DATE:20260727
DTSTAMP:20260422T220840
CREATED:20260406T155246Z
LAST-MODIFIED:20260406T155246Z
UID:1174-1784764800-1785110399@myinternalbalance.com
SUMMARY:Module 1 & 2
DESCRIPTION:Honor\, Michigan: \nTuition is $900 if paid in full by July 1st\, 2026; $960 if paid in full thereafter. A $150 at registration secures your spot. A $95 check payable to American Bowen Academy due on the first day of class. Inexpensive accommodations available where class is held. \nEmail for details gisela.bosch@outlook.com or text at (810) 813 2310 \nPlease click here to register.
URL:https://myinternalbalance.com/event/module-1-2-3/
END:VEVENT
BEGIN:VEVENT
DTSTART;VALUE=DATE:20260725
DTEND;VALUE=DATE:20260727
DTSTAMP:20260422T220840
CREATED:20260406T155529Z
LAST-MODIFIED:20260406T155529Z
UID:1176-1784937600-1785110399@myinternalbalance.com
SUMMARY:Module 2
DESCRIPTION:Honor\, Michigan: \nTuition is $450 if paid in full by July 1st\, 2026; $480 if paid in full thereafter. A $ 150 deposit at registration secures your spot. Inexpensive accommodations available where class is held. \nEmail for details gisela.bosch@outlook.com or text at (810) 813 2310 \nPlease click here to register.
URL:https://myinternalbalance.com/event/module-2-10/
END:VEVENT
END:VCALENDAR